BEGIN:VCALENDAR
VERSION:2.0
PRODID:https://www.benburgess.co.uk/military-hiring-event/
BEGIN:VEVENT
UID:69e5b00c93f14
DTSTART:20250708T000000Z
SEQUENCE:0
TRANSP:OPAQUE
DTEND:20250708T070000Z
LOCATION:John Deere
SUMMARY:Ben Burgess is partnering with John Deere for the Military Hiring E
 vent
CLASS:PUBLIC
DTSTAMP:20260420T054812Z
END:VEVENT
END:VCALENDAR